BEGIN:VCALENDAR
VERSION:2.0
PRODID:Events Booking
BEGIN:VEVENT
UID:69eb7eb262a97
SUMMARY:Was Wasserwellen über das Universum verraten
DESCRIPTION:Was hat Poolwasser mit Licht\, Ton\, 5G-WLAN\, Mikrowellen und 
 Schwarzen Löchern gemeinsam? 
 Mitnehmen: Badesachen Picknicksdecke\, Ja
 use\, Notizblock\, Bleistift\, Mutter/Vater oder Oma/Opa :-)
 Wann: 04.08
 .2025
 Zeit: 10:00 – 12:00 Uhr
 Wo: 3-Tannenbad Vorau
 Kosten: 10 eur
  pro Familie
 Alter: ab 10 J
DTSTART:20250804T080000Z
DTEND:20250804T100000Z
DTSTAMP:20250607T150317Z
ORGANIZER;CN=Astromum - Dr. M. F. Nieva:MAILTO:fernanda_nieva@astromum.com
END:VEVENT
END:VCALENDAR