BEGIN:VCALENDAR
VERSION:2.0
PRODID:Events Booking
BEGIN:VEVENT
UID:69eb91305e8a5
SUMMARY:Schwarze Löcher 
DESCRIPTION:
DTSTART:20240314T180000Z
DTEND:20240314T200000Z
DTSTAMP:20240816T181200Z
ORGANIZER;CN=Astromum - Dr. M. F. Nieva:MAILTO:fernanda_nieva@astromum.com
END:VEVENT
END:VCALENDAR