BEGIN:VCALENDAR
VERSION:2.0
PRODID:Events Booking
BEGIN:VEVENT
UID:69eb915e462d6
SUMMARY:Räume öffnen - nach Gott fragen 
DESCRIPTION:Am Ende der Veranstaltung\, habe ich dem&nbsp\;etwa 350-köpfig
 en Publikum eine \"Hausaufgabe\" gegeben: Nach der Geschichte des hellblau
 en Punkts und nach Carl Sagans Rede von 1994 an der Cornell University zu 
 suchen.
 Sagan war ein Visionär. Und seine Rede hatte einen großen Einf
 luss auf mich (20 J)\, denn die Nachrichten und Fotos der Voyager-1-Missio
 n begleiteten mich seit meiner Kindheit. Als ich ein Teenager war\, habe i
 ch sogar&nbsp\;einen Brief an die NASA geschickt und sie gebeten\, mir Fot
 os von Planeten zu schicken (und das haben sie auch getan!). Noch dazu\,&n
 bsp\;Sagans Doku-Serie \"Unser Kosmos\" war ein muss bei uns daheim Nachmi
 ttags am Ende der 80er Jahren.&nbsp\;Die Serie behandelte ein weit gefäch
 ertes Spektrum wissenschaftlicher Themen und versuchte\, dem Laien komplex
 e wissenschaftliche Zusammenhänge zu vermitteln.
 Der blassblaue Punkt v
 eränderte meine Philosophie und Sicht auf die Menschheit im Universum. Kl
 icken Sie auf \"Details\": da ist die Hausaufgabe gelöst.&nbsp\;
DTSTART:20240910T170000Z
DTEND:20240910T183000Z
DTSTAMP:20240816T162013Z
ORGANIZER;CN=Astromum - Dr. M. F. Nieva:MAILTO:fernanda_nieva@astromum.com
END:VEVENT
END:VCALENDAR