BEGIN:VCALENDAR
VERSION:2.0
PRODID:Events Booking
BEGIN:VEVENT
UID:69eb945f684d9
SUMMARY:Physik am Spielplatz
DESCRIPTION:Veranstalter: Junge Uni Innsbruck&nbsp\;
 Wer gerne am Spielpl
 atz spielt oder Sport tribt\, kann intuitiv die Geheimnisse unserer Umwelt
  und der Physik lernen.
 Kosten: Eintrit Baggersee ist selbst zu bezahlen
 .
 Alter: keine Altersbeggrenzung\, Eltern sind besonders willkommen!
 K
 eine Anmeldung erfordelich. Bei Schlechtwetter wird die Veranstaltung abge
 sagt.
 Ort: Spielplatz Eingang West\, Josef-Mayr-Nusser-Weg 29\, 6020\, I
 nnsbruck
 
DTSTART:20250711T120000Z
DTEND:20250711T150000Z
DTSTAMP:20240607T111216Z
ORGANIZER;CN=Astromum - Dr. M. F. Nieva:MAILTO:fernanda_nieva@astromum.com
END:VEVENT
END:VCALENDAR