BEGIN:VCALENDAR
VERSION:2.0
PRODID:Events Booking
BEGIN:VEVENT
UID:69eb7dcb793c2
SUMMARY:Sport und Physik
DESCRIPTION:Von der Leichtathletik über Alpinsport bis hin zum Ballett ode
 r Elfmeterschießen: Sportliche Bewegung folgt physikalischen Gesetzen.&nb
 sp\;
DTSTART:20251115T090000Z
DTEND:20251115T110000Z
DTSTAMP:20240403T112005Z
ORGANIZER;CN=Astromum - Dr. M. F. Nieva:MAILTO:fernanda_nieva@astromum.com
END:VEVENT
END:VCALENDAR