BEGIN:VCALENDAR
VERSION:2.0
PRODID:Events Booking
BEGIN:VEVENT
UID:69eb803325361
SUMMARY:Physik mit dem eigenen Körper erleben
DESCRIPTION:Physik mit dem eigenen Körper erleben!
 Das macht extrem viel
  Spaß und dazu lernen wir ein bisschen über Naturphänomene. 
 Mitnehme
 n: Picknicksdecke\, Jause\, Notizblock\, Bleistift\, Mama/Papa\, Tante/Onk
 el\, Oma/Opa :-)
 Wann: 21.07.2025
 Zeit: 10:00 – 12:00 Uhr
 Wo: Spie
 lplatz Urkraft Arena
 Alter: ab 7 J
DTSTART:20250721T080000Z
DTEND:20250721T100000Z
DTSTAMP:20250607T135037Z
ORGANIZER;CN=Astromum - Dr. M. F. Nieva:MAILTO:fernanda_nieva@astromum.com
END:VEVENT
END:VCALENDAR