BEGIN:VCALENDAR
VERSION:2.0
PRODID:Events Booking
BEGIN:VEVENT
UID:69eb7d94553ff
SUMMARY:Physik in der Küche
DESCRIPTION:
 Warum sollte ich den Topf abdecken\, damit das Essen schnell
 er gart? Wie funktioniert ein Schnellkochtopf? 
 Warum brauchen Nudeln in
  den Bergen länger zum Kochen als am Meer? Welche Temperatur hat ein Glas
  Wasser\, dem ich einen Eiswürfel hinzufüge?
 
 Welche Küchenelemente
  sind Wärmeleiter oder Wärmeisolatoren?
 
 Wo beobachte ich Konvektion
  und Wärmeleitung? Wie funktioniert die Mikrowelle?
 
 Wie funktioniert
  der Induktionsherd?
 
 Wie funktioniert der Kühlschrank? Was passiert\
 , wenn ich einer Eisschicht Salz hinzufüge? Warum springt heißes Öl\, w
 enn Wasser darauf fällt?
 
 &nbsp\;
DTSTART:20251025T070000Z
DTEND:20251025T100000Z
DTSTAMP:20240406T082734Z
ORGANIZER;CN=Astromum - Dr. M. F. Nieva:MAILTO:fernanda_nieva@astromum.com
END:VEVENT
END:VCALENDAR