BEGIN:VCALENDAR
VERSION:2.0
PRODID:Events Booking
BEGIN:VEVENT
UID:69eb95d8c20c2
SUMMARY:Tivoli I
DESCRIPTION:Was hat Poolwasser mit Licht\, Ton\, 5G-WLAN\, Mikrowellen und 
 Schwarzen Löchern gemeinsam? Wir entdecken die Welt der Wellen.
 Max Tei
 lnehmer: 5 Kinder (+ Erwachsene + Assistenten)
DTSTART:20240715T113000Z
DTEND:20240717T140000Z
DTSTAMP:20240401T122424Z
ORGANIZER;CN=Astromum - Dr. M. F. Nieva:MAILTO:fernanda_nieva@astromum.com
END:VEVENT
END:VCALENDAR