BEGIN:VCALENDAR
VERSION:2.0
PRODID:Events Booking
BEGIN:VEVENT
UID:69eb91ec61c96
SUMMARY:Physik im Haushalt
DESCRIPTION:
 Wie kann man Kleidung effizienter trocknen?
 Wieso kann Sei
 fe Fett lösen?
 Wie kann man das Haus effizient lüften?
 Wie funktioni
 ert eine Solarenergielampe? 
 Wie funktioniert der Staubsauger?
  Wie fu
 nktionieren Bewegungs- und Lichtsensoren? 
 Wie funktioniert ein Roboters
 taubsauger? 
 Tipps zum Energiesparen.
 
DTSTART:20251011T070000Z
DTEND:20251011T100000Z
DTSTAMP:20240406T083929Z
ORGANIZER;CN=Astromum - Dr. M. F. Nieva:MAILTO:fernanda_nieva@astromum.com
END:VEVENT
END:VCALENDAR