BEGIN:VCALENDAR
VERSION:2.0
PRODID:Events Booking
BEGIN:VEVENT
UID:69eb960b80d69
SUMMARY:Tivoli III
DESCRIPTION:Was hat Poolwasser mit Licht\, Ton\, 5G-WLAN\, Mikrowellen und 
 Schwarzen Löchern gemeinsam? Wir entdecken die Welt der Wellen.
 &nbsp\;
 
 Max Teilnehmer: 5 Kinder (+ Erwachsene + Assistenten)
DTSTART:20240827T070000Z
DTEND:20240828T120000Z
DTSTAMP:20240401T124209Z
ORGANIZER;CN=Astromum - Dr. M. F. Nieva:MAILTO:fernanda_nieva@astromum.com
END:VEVENT
END:VCALENDAR