BEGIN:VCALENDAR
VERSION:2.0
PRODID:Events Booking
BEGIN:VEVENT
UID:69eb947387123
SUMMARY:Tivoli II
DESCRIPTION:Was hat Poolwasser mit Licht\, Ton\, 5G-WLAN\, Mikrowellen und 
 Schwarzen Löchern gemeinsam? Wir entdecken die Welt der Wellen.
 Max Tei
 lnehmer: 5 Kinder (+ Erwachsene + Assistenten)
DTSTART:20240805T070000Z
DTEND:20240806T120000Z
DTSTAMP:20240401T124209Z
ORGANIZER;CN=Astromum - Dr. M. F. Nieva:MAILTO:fernanda_nieva@astromum.com
END:VEVENT
END:VCALENDAR