BEGIN:VCALENDAR
VERSION:2.0
PRODID:Events Booking
BEGIN:VEVENT
UID:69eb7c98c3be5
SUMMARY:Nachthimmel Beobachtung mit bloßem Auge am Patscherkofel II
DESCRIPTION:Sterne\, Planeten\, Konstellationen\, Hubble\, ISS oder Satelli
 ten im Himmel entdecken. Die Nacht erscheint etwa früher als in Juni.&nbs
 p\;Der Plan: wir marschieren ein Stück und machen es uns gemütlich\, um 
 den Sonnenuntergang zu beobachten (20:58 Uhr). Langsam erscheint der erste
 r Planet... Je dunkler wird\, desto mehr Objekte entdecken wir.&nbsp\;
 M
 itnehmen: warme Kleidung\, Matte\, Decke oder Schlafsack\, Thermoskanne\, 
 Jause und ein Erwachsene
 
 &nbsp\;Kosten: 10 € pro Familie
 
 
 Tr
 effpunkt: Talstation Patscherkofelbahn 
 
 
 Die Fahrt ist selbst zu be
 zahlen
 
 
 
 
 Bei Schlechtem Wetter\, wird die Veranstaltung abgesa
 gt!&nbsp\;
 Wichtige Daten:&nbsp\;
 
 
 
 Sonnenuntergang
 20:58
 &
 nbsp\;
 
 
 Bürgerliche Abenddämmerung
 20:58 - 21:35
 36 Min.
 

  
 Nautische Abenddämmerung
 21:35 - 22:23
 48 Min.
 
 
 Astronomis
 che Abenddämmerung
 22:23 - 23:23
 1 Std.
 
 
 
 &nbsp\;
DTSTART:20250724T180000Z
DTEND:20250724T210000Z
DTSTAMP:20250607T151550Z
ORGANIZER;CN=Astromum - Dr. M. F. Nieva:MAILTO:fernanda_nieva@astromum.com
END:VEVENT
END:VCALENDAR