BEGIN:VCALENDAR
VERSION:2.0
PRODID:Events Booking
BEGIN:VEVENT
UID:69eb7e9ed5ec8
SUMMARY:Nachthimmel Beobachtung mit bloßem Auge
DESCRIPTION:Perseiden\, Sterne\, Planeten\, Konstellationen\, Hubble\, ISS 
 oder Satelliten im Himmel entdecken. 
 Mitnehmen: warme Kleidung\, Pickni
 cksdecke\, Thermoskanne und ein Erwachsene
 Wann: 12.08.2025
 Zeit: 20:3
 0 Uhr (ACHTUNG! NEUE ZEIT WEGEN DER MOND!)
 Wo: Festgelände Kring Vorau
 
 Kosten: 10 eur pro Familie
 Alter: ab 10 J
 &nbsp\;
 &nbsp\;
DTSTART:20250812T183000Z
DTSTAMP:20250607T151550Z
ORGANIZER;CN=Astromum - Dr. M. F. Nieva:MAILTO:fernanda_nieva@astromum.com
END:VEVENT
END:VCALENDAR