BEGIN:VCALENDAR
VERSION:2.0
PRODID:Events Booking
BEGIN:VEVENT
UID:69eb7cb2f11a4
SUMMARY:Nachthimmel Beobachtung mit bloßem Auge am Patscherkofel I
DESCRIPTION:Sterne\, Planeten\, Konstellationen\, Hubble\, ISS oder Satelli
 ten im Himmel entdecken. Die Herausforderung ist\, wach zu bleiben\, da da
 s eine der kürzesten Nächte des Jahres ist. Der Plan: wir marschieren ei
 n Stück und machen es uns gemütlich\, um den Sonnenuntergang zu beobacht
 en (21:13 Uhr). Langsam erscheint der erster Planet... Je dunkler wird\, d
 esto mehr Objekte entdecken wir. Der Wecker wird um 22:30 Uhr gestellt\, d
 amit wir die letzte Seilbahn nicht verpassen... Ansonsten werden wir viele
  mehr Sterne die ganze Nacht sehen müssen :-)
 Mitnehmen: warme Kleidung
 \, Matte\, Decke\, Thermoskanne\, Jause und ein Erwachsene
 Wann: 19.06.2
 025
 Zeit: 20:00-23:00 Uhr
 Treffpunkt: Talstation Patscherkofelbahn 
 
 Die Fahrt ist selbst zu bezahlen
 Kosten: 10 eur pro Familie
 Alter: ab 
 10 J
 Bei Schlechtem Wetter\, wird die Veranstaltung abgesagt! Ersatzterm
 ine: 26.6. &amp\; 3.7.2025
 Wichtige Daten:&nbsp\;
 
 
 
 Sonnenunter
 gang
 21:13
 &nbsp\;
 
 
 Bürgerliche Abenddämmerung
 21:13 - 21:5
 4
 40 Min.
 
 
 Nautische Abenddämmerung
 21:54 - 22:49
 55 Min.
 
 
 
 Astronomische Abenddämmerung
 22:49 - 00:15
 1 Std. 25 Min.
 
 
 
 
 &nbsp\;
DTSTART:20250619T180000Z
DTEND:20250619T210000Z
DTSTAMP:20250607T151550Z
ORGANIZER;CN=Astromum - Dr. M. F. Nieva:MAILTO:fernanda_nieva@astromum.com
END:VEVENT
END:VCALENDAR