BEGIN:VCALENDAR
VERSION:2.0
PRODID:Events Booking
BEGIN:VEVENT
UID:69eb9540d8b35
SUMMARY:MFN for ladies
DESCRIPTION:&nbsp\;
 Liebe Damen\,&nbsp\;
 Ich plane ein Pilotprojekt mit
  dem Ziel\, Frauen in unserer Gesellschaft grundlegende physikalische Konz
 epte für den Alltag zu vermitteln (keine Vorkenntnisse erforderlich). 
 
 Die Idee ist\, Werkzeuge anzubieten\, um die Funktionsweise der Welt um un
 s herum besser zu verstehen\, zum Beispiel in der Natur\, der Umwelt\, zu 
 Hause\, im Auto oder bei medizinischen Untersuchungen.&nbsp\;
 &nbsp\;
 
 Die&nbsp\;Lernmethode MFN konzentriert sich auf das Wohlbefinden des Mensc
 hen und beginnt unter anderem mit einer kurzen Meditation.&nbsp\;Der zweit
 e Teil konzentriert sich auf die achtsame Beobachtung der Umwelt und das L
 ernen mit verschiedenen Sinnen und Strategien für&nbsp\;kurze Zeiträume.
 &nbsp\;
 Aus diesem Grund lade ich euch herzlich zu einem Picknick im Kur
 park Igls am Samstag\, den 14. Juni\, von 15:00 bis 17:00 Uhr ein.&nbsp\;A
 nschließend können wir gerne noch etwas länger zum Austauschen bleiben.
  Parkplätze sind vorhanden. Bei Regen steht euch meine Wohnung zur Verfü
 gung. In diesem Treffen werde ich mich auf unsere Wahrnehmung der Natur ko
 nzentrieren. In anderen Treffen werde ich andere Themen behandeln. 
 Mitz
 ubringen: ein Notizbuch und Buntstifte\, lieblings-ätherisches Öl\, eine
  Matte und eine Decke zum Entspannen\,&nbsp\;Kopfhörer zum Musikhören. U
 nd eine leckere Jause und Getränke für die Pausen.
  Ich bitte um einem
  Beitrag von 20 Euro. Falls du nicht zahlen kannst\, komm bitte trotzdem u
 nd bring stattdessen Kaffee\, Tee oder Cookies :-)
 Liebe Grüße\, Fer

  &nbsp\;
DTSTART:20250614T130000Z
DTEND:20250614T150000Z
DTSTAMP:20250603T131118Z
ORGANIZER;CN=Astromum - Dr. M. F. Nieva:MAILTO:fernanda_nieva@astromum.com
END:VEVENT
END:VCALENDAR