BEGIN:VCALENDAR
VERSION:2.0
PRODID:Events Booking
BEGIN:VEVENT
UID:69eb7eb25f13b
SUMMARY:Die Schönheit der Natur durch achtsame Physik für Mädchen
DESCRIPTION:Achtsamkeit und Beobachtung von Naturphänomene und Technik in 
 unserer Umgebung. Ganz entspannt...
 Mitnehmen: Picknicksdecke\, Jause\, 
 Notizblock\, Bleistift. 
 Mutter und Tochter / Oma und Enkelin / Du und d
 eine Bestie / Du und deine Patin ...
 Wann: 30.07.2025
 Zeit: 15:00 – 
 17:00 Uhr
 Wo: Stift Vorau – Brühlweg
 Kosten: 10 eur pro Familie
 A
 lter: ab 10 J
DTSTART:20250730T130000Z
DTEND:20250730T150000Z
DTSTAMP:20250607T145628Z
ORGANIZER;CN=Astromum - Dr. M. F. Nieva:MAILTO:fernanda_nieva@astromum.com
END:VEVENT
END:VCALENDAR