BEGIN:VCALENDAR
VERSION:2.0
PRODID:Events Booking
BEGIN:VEVENT
UID:69eb7df05c8f3
SUMMARY:Die Schönheit der Natur durch achtsame Physik - für Kinder und El
 tern
DESCRIPTION:Achtsame Physik: Physikalische Konzepte oder Experimente achtsa
 mer zu erleben\, um ein tieferes Verständnis zu entwickeln und die Konzen
 tration zu verbessern.&nbsp\;
 Das Ziel:&nbsp\;Familien in unserer Gesell
 schaft grundlegende physikalische Konzepte für den Alltag zu vermitteln (
 keine Vorkenntnisse erforderlich).
 Die&nbsp\;Lernmethode MFN (Mindful Fo
 cus in Nature)&nbsp\;konzentriert sich auf das Wohlbefinden des Menschen u
 nd beginnt unter anderem mit einer kurzen Meditation.&nbsp\;Der zweite Tei
 l konzentriert sich auf die achtsame Beobachtung der Umwelt und das Lernen
  mit verschiedenen Sinnen und Strategien für&nbsp\;kurze Zeiträume.&nbsp
 \;
 Mitzubringen: ein Notizbuch und Buntstifte\, lieblings-ätherisches 
 Öl\, eine Matte und eine Decke zum Entspannen\,&nbsp\;Kopfhörer zum Musi
 khören. Und eine leckere Jause und Getränke für die Pausen. Wir werden 
 auch spielen!
 Kosten: 20 Eur pro Familie
 Treffpunkt: Kurpark Igls am T
 eich
 Zeit: 10 bis 12 Uhr
 Kinder von 3 bis 10 J in Begleitung eines Erw
 achsenen
DTSTART:20250628T080000Z
DTEND:20250628T100000Z
DTSTAMP:20250607T145628Z
ORGANIZER;CN=Astromum - Dr. M. F. Nieva:MAILTO:fernanda_nieva@astromum.com
END:VEVENT
END:VCALENDAR