BEGIN:VCALENDAR
VERSION:2.0
PRODID:Events Booking
BEGIN:VEVENT
UID:69eb7df68a88b
SUMMARY:Die Schönheit der Natur durch achtsame Physik - Women only
DESCRIPTION:Achtsamkeit und Beobachtung von Naturphänomene und Technik in 
 unserer Umgebung. Ganz entspannt...
 Das Ziel:&nbsp\;Frauen in unserer Ge
 sellschaft grundlegende physikalische Konzepte für den Alltag zu vermitte
 ln (keine Vorkenntnisse erforderlich).
 
 Die&nbsp\;Lernmethode MFN&nbsp
 \;(Mindful Focus in Nature\; Buch in print) konzentriert sich auf das Wohl
 befinden des Menschen und beginnt unter anderem mit einer kurzen Meditatio
 n.&nbsp\;Der zweite Teil konzentriert sich auf die achtsame Beobachtung de
 r Umwelt und das Lernen mit verschiedenen Sinnen und Strategien für&nbsp\
 ;kurze Zeiträume.&nbsp\;
 Mitzubringen: ein Notizbuch und Buntstifte\, l
 ieblings-ätherisches Öl\, eine Matte und eine Decke zum Entspannen\,&nbs
 p\;Kopfhörer zum Musikhören. Und eine leckere Jause und Getränke für d
 ie Pausen.
 Kosten: 15 Eur&nbsp\;
 Treffpunkt: Kurpark Igls (Spielplatz)
 
 Zeit: 15 bis 17 Uhr
 Lernen kennt keinen Altersgrenzen :-)
DTSTART:20250614T130000Z
DTEND:20250614T150000Z
DTSTAMP:20250607T145628Z
ORGANIZER;CN=Astromum - Dr. M. F. Nieva:MAILTO:fernanda_nieva@astromum.com
END:VEVENT
END:VCALENDAR