BEGIN:VCALENDAR
VERSION:2.0
PRODID:Events Booking
BEGIN:VEVENT
UID:69eb9198550ff
SUMMARY:Fahrphysik
DESCRIPTION:Wie groß ist deine Reaktionszeit und deine Reaktionsabstand\, 
 wenn du mit 30 km/h und 60 km/h fährst?
 Und wie lange ist deine Bremsze
 it und dein Bremsweg?
 Welche Beschleunigung hat dein Auto\, wenn du von 
 der 30 Zone in 50 Zone wechselst?
 Und das eines Sportwagens?
 Warum bra
 ucht man Sommer- und Winterreifen?&nbsp\;
 Wie beschreibt man die Reibung
  an Tagen mit Regen\, Schnee\, Eis oder Herbstlaub?
 Wo liegt der Schwerp
 unkt eines Geländewagens im Vergleich zu einem normalen Wagen?
 Wie funk
 tionieren die Bremsen?&nbsp\;
 Warum bremst das Auto\, wenn ich im 2. ode
 r 3. Gang bergab fahre?&nbsp\;
 Wie viele Sekunden Ablenkung reichen aus\
 , um einen Unfall bei 20 km/h\, 50 km/h\, 100 km/h zu verursachen?
 Was i
 st die Überhöhung einer Kurve?
 Wie groß ist die Zentrifugalkraft in e
 iner Kurve an deinem Auto?
DTSTART:20251018T070000Z
DTEND:20251018T100000Z
DTSTAMP:20240406T085908Z
ORGANIZER;CN=Astromum - Dr. M. F. Nieva:MAILTO:fernanda_nieva@astromum.com
END:VEVENT
END:VCALENDAR