BEGIN:VCALENDAR
VERSION:2.0
PRODID:Events Booking
BEGIN:VEVENT
UID:69eb9838e6b1d
SUMMARY:Climate detectives kids (8-12 J)
DESCRIPTION:https://climatedetectives.esa.int/de/climate-detectives-kids/

  Es ist kostenlos.&nbsp\;
 
 
 Climate Detectives Kids
 
 
 
 
 Cl
 imate Detectives Kids fordert Schüler*innen auf&nbsp\;einen Unterschied m
 achen&nbsp\;indem sie sich mit der Umwelt der Erde auseinandersetzen\, um 
 sie zu schützen.
 In diesem Projekt führen Schüler*innen Aktivitäten 
 durch\, die sich auf die Umwelt der Erde konzentrieren\, sammeln Beweise f
 ür ihre Entdeckungen und verdienen sich Abzeichen für jede Aktivität!

  Je mehr wir über unseren Planeten wissen\, desto mehr können wir für s
 einen Schutz tun!
 
 
DTSTART:20241001T130000Z
DTEND:20241005T140000Z
DTSTAMP:20240901T123546Z
ORGANIZER;CN=Astromum - Dr. M. F. Nieva:MAILTO:fernanda_nieva@astromum.com
END:VEVENT
END:VCALENDAR