BEGIN:VCALENDAR
VERSION:2.0
PRODID:Events Booking
BEGIN:VEVENT
UID:69eb7e9ed3550
SUMMARY:Climate detectives kids (8-12 J) 
DESCRIPTION:https://climatedetectives.esa.int/de/climate-detectives-kids/

  
 
 Climate Detectives Kids
 
 
 
 
 Climate Detectives Kids forde
 rt Schüler*innen auf&nbsp\;einen Unterschied machen&nbsp\;indem sie sich 
 mit der Umwelt der Erde auseinandersetzen\, um sie zu schützen.
 In dies
 em Projekt führen Schüler*innen Aktivitäten durch\, die sich auf die Um
 welt der Erde konzentrieren\, sammeln Beweise für ihre Entdeckungen und v
 erdienen sich Abzeichen für jede Aktivität!
 Je mehr wir über unseren 
 Planeten wissen\, desto mehr können wir für seinen Schutz tun!
 
 
DTSTART:20251001T060000Z
DTEND:20241010T070000Z
DTSTAMP:20240901T123546Z
ORGANIZER;CN=Astromum - Dr. M. F. Nieva:MAILTO:fernanda_nieva@astromum.com
END:VEVENT
END:VCALENDAR