BEGIN:VCALENDAR
VERSION:2.0
PRODID:Events Booking
BEGIN:VEVENT
UID:69eb98386a7c8
SUMMARY:Climate detectives Junior (13-19 J)
DESCRIPTION:
 
 
 
 
 
 
 
 
 Das ist ein Wettbewerb der ESA.&nbsp
 \;
 Es ist kostenlos.&nbsp\;
 &nbsp\;
 Warum teilnehmen?
 
 
 
 
 
 
 
 
 
 
 
 
 
 
 Durch die Teilnahme am Klimadetektive-Projekt w
 erden die SchülerInnen die Umwelt der Erde als ein komplexes und sich ver
 änderndes System verstehen und lernen\, wie wichtig es ist\, unsere Umwel
 t zu respektieren.&nbsp\;
 Die Schüler werden die Möglichkeit haben\, v
 on Wissenschaftlern und Erdbeobachtungsexperten durch Videos\, Webinare un
 d andere auf nationaler Ebene organisierte Veranstaltungen zu lernen.
 ht
 tps://climatedetectives.esa.int/de/austria/
 &nbsp\;&nbsp\;
 
 
 
 

  
 
 Über Klimadetektive
 
 
 
 
 Die Klimadetektive fordern die S
 chüler auf&nbsp\;einen Unterschied machen&nbsp\;bei der Erforschung und d
 em Schutz der Erde!
 In diesem Projekt schlüpfen die Schüler in die Rol
 le von Klimadetektiven und lernen gleichzeitig etwas über&nbsp\;Umwelt un
 d Klima der Erde.
 Das Projekt ist in drei Schritte gegliedert:&nbsp\;
 
 
 
 
 
 Phase 1 - Teams identifizieren ein Umwelt- oder Klimaproblem d
 er Erde
 Phase 2 - Die Teams untersuchen das Problem mit Hilfe von echten
  Satellitenbildern oder eigenen Bodenmessungen&nbsp\;
 Phase 3 - Die Team
 s schlagen Aktionen vor\, um \"etwas zu verändern\" und teilen ihre Ergeb
 nisse mit.
 
 
 
 
 
 &nbsp\;
 
 
 
 
 
 &nbsp\;
 
 
DTSTART:20241001T130000Z
DTEND:20241005T150000Z
DTSTAMP:20240901T124511Z
ORGANIZER;CN=Astromum - Dr. M. F. Nieva:MAILTO:fernanda_nieva@astromum.com
END:VEVENT
END:VCALENDAR